Workbook
Name audit_score: Overview!$C$19
Name Choices: Overview!$E$7:$E$10
Name Score: Overview!#REF!
Name Scores: #REF!

Sheet Overview
B1: [Name] Audit
B2: =MID(CELL("filename",B1),FIND("]",CELL("filename",B1))+1,255) -> Overview
E3: v
B4: Standard
B5: Write all Standard Outcome requirement/s this audit is reviewing against
B7: Organisation: | D7: Purpose: | E7: Explain what the audit is aiming to achieve
B8: Service/Facility (Business Unit): | D8: Method: | E8: Explain how the audit is to be completed e.g. Review organisational documents and older people files
B9: Date: | D9: Frequency: | E9: How often is the audit to be completed?
B10: Assessor: | D10: Sample: | E10: What is to be audited e.g. all relevant organisational records, 10% (max 15) older people etc.
B12: Instructions This audit is to be conducted by staff who have been trained in the completion of audits and in line with the audit schedule. Respond with a Y, N or NA. If the response is a N then corrective action is required which is to be identified in the Corrective Action Plan. An NA response requires an explanation why this question does not apply, e.g. not at this site etc.
B13: On completion of the audit: 1. Complete an analysis of the audit in Part 3 (Audit Analysis) on the Audit tab 2. Save the file 3. Upload the file to the corresponding audit record in the Safety and Quality Management System. The score will be synchronised on upload 4. Record any recommendations in the Safety and Quality Management System for approval 5. Transfer issues identified to the Corrective Action Plan
B15: Results
B16: Percent of questions answered | C16: =(Audit!D21+Audit!D57+Audit!D82)/Audit!D81 -> 0
B17: Number of older person files reviewed | C17: =15-COUNTIF(Audit!D55:R55,0) -> 15
B18: Number of worker files reviewed | C18: =15-COUNTIF(Audit!D79:R79,0) -> 0
B19: Total Score | C19: =Audit!P23+Audit!O58+Audit!O83 -> 0
B21: Authorised use for active Ageing Australia QMS subscribers only. | D21: v26.1 | E21: ©2026 Ageing Australia
B22: Report unauthorised use to quality@ageingaustralia.asn.au
D23: Overview

Sheet Audit
C1: =Overview!B1 -> [Name] Audit | D1: Y
C2: {=MID(CELL("filename",C1),FIND("]",CELL("filename",C1))+1,255)} -> Audit | D2: N
D3: NA
B4: # | C4: Part 1: Process Review | D4: N/Y/NA | T4: %Y | U4: Comments
B5: 1 | S5: =15-COUNTBLANK(D5:R5) -> 0 | T5: =IF(OR(D5="Y",D5="NA"),1,0) -> 0
B6: 2 | S6: =15-COUNTBLANK(D6:R6) -> 0 | T6: =IF(OR(D6="Y",D6="NA"),1,0) -> 0
B7: 3 | S7: =15-COUNTBLANK(D7:R7) -> 0 | T7: =IF(OR(D7="Y",D7="NA"),1,0) -> 0
B8: 4 | S8: =15-COUNTBLANK(D8:R8) -> 0 | T8: =IF(OR(D8="Y",D8="NA"),1,0) -> 0
B9: 5 | S9: =15-COUNTBLANK(D9:R9) -> 0 | T9: =IF(OR(D9="Y",D9="NA"),1,0) -> 0
B10: 6 | S10: =15-COUNTBLANK(D10:R10) -> 0 | T10: =IF(OR(D10="Y",D10="NA"),1,0) -> 0
B11: 7 | S11: =15-COUNTBLANK(D11:R11) -> 0 | T11: =IF(OR(D11="Y",D11="NA"),1,0) -> 0
B12: 8 | S12: =15-COUNTBLANK(D12:R12) -> 0 | T12: =IF(OR(D12="Y",D12="NA"),1,0) -> 0
B13: 9 | S13: =15-COUNTBLANK(D13:R13) -> 0 | T13: =IF(OR(D13="Y",D13="NA"),1,0) -> 0
B14: 10 | S14: =15-COUNTBLANK(D14:R14) -> 0 | T14: =IF(OR(D14="Y",D14="NA"),1,0) -> 0
B15: 11 | S15: =15-COUNTBLANK(D15:R15) -> 0 | T15: =IF(OR(D15="Y",D15="NA"),1,0) -> 0
B16: 12 | S16: =15-COUNTBLANK(D16:R16) -> 0 | T16: =IF(OR(D16="Y",D16="NA"),1,0) -> 0
... B19: 15 | S19: =15-COUNTBLANK(D19:R19) -> 0 | T19: =IF(OR(D19="Y",D19="NA"),1,0) -> 0
S20: =COUNTIF(S5:S19,">=0") -> 15
C21: Number of questions completed this section | D21: =COUNTIF(S5:S19,">0") -> 0
C22: Percent of questions completed this section | D22: =D21/S20 -> 0 | G22: Weighted value of this section | P22: =S20/D81 -> 0.27777778
C23: Percent score this section | D23: =SUM(T5:T19)/S20 -> 0 | G23: Weighted score for this section | P23: =P22*D23 -> 0
D26: P1 | E26: P2 | F26: P3 | G26: P4 | H26: P5 | I26: P6 | J26: P7 | K26: P8 | L26: P9 | M26: P10 | N26: P11 | O26: P12 | P26: P13 | Q26: P14 | R26: P15 | S26: Total
D27: Older Person Initials/Room Number
B28: # | C28: Part 2: Review of older person documentation | T28: %Y | U28: Comments
B29: 1 | S29: =15-COUNTBLANK(D29:R29) -> 0 | T29: =IFERROR(IF(D29="",0,((COUNTIF(D29:R29,"Y")+COUNTIF(D29:R29,"NA"))/(COUNTIF(D29:R29,"Y")+COUNTIF(D29:R29,"N")+COUNTIF(D29:R29,"NA")))),"0%") -> 0
B30: 2 | S30: =15-COUNTBLANK(D30:R30) -> 0 | T30: =IFERROR(IF(D30="",0,((COUNTIF(D30:R30,"Y")+COUNTIF(D30:R30,"NA"))/(COUNTIF(D30:R30,"Y")+COUNTIF(D30:R30,"N")+COUNTIF(D30:R30,"NA")))),"0%") -> 0
B31: 3 | S31: =15-COUNTBLANK(D31:R31) -> 0 | T31: =IFERROR(IF(D31="",0,((COUNTIF(D31:R31,"Y")+COUNTIF(D31:R31,"NA"))/(COUNTIF(D31:R31,"Y")+COUNTIF(D31:R31,"N")+COUNTIF(D31:R31,"NA")))),"0%") -> 0
B32: 4 | S32: =15-COUNTBLANK(D32:R32) -> 0 | T32: =IFERROR(IF(D32="",0,((COUNTIF(D32:R32,"Y")+COUNTIF(D32:R32,"NA"))/(COUNTIF(D32:R32,"Y")+COUNTIF(D32:R32,"N")+COUNTIF(D32:R32,"NA")))),"0%") -> 0
B33: 5 | S33: NA | T33: =IFERROR(IF(D33="",0,((COUNTIF(D33:R33,"Y")+COUNTIF(D33:R33,"NA"))/(COUNTIF(D33:R33,"Y")+COUNTIF(D33:R33,"N")+COUNTIF(D33:R33,"NA")))),"0%") -> 0
B34: 6 | S34: =15-COUNTBLANK(D34:R34) -> 0 | T34: =IFERROR(IF(D34="",0,((COUNTIF(D34:R34,"Y")+COUNTIF(D34:R34,"NA"))/(COUNTIF(D34:R34,"Y")+COUNTIF(D34:R34,"N")+COUNTIF(D34:R34,"NA")))),"0%") -> 0
B35: 7 | S35: =15-COUNTBLANK(D35:R35) -> 0 | T35: =IFERROR(IF(D35="",0,((COUNTIF(D35:R35,"Y")+COUNTIF(D35:R35,"NA"))/(COUNTIF(D35:R35,"Y")+COUNTIF(D35:R35,"N")+COUNTIF(D35:R35,"NA")))),"0%") -> 0
B36: 8 | S36: =15-COUNTBLANK(D36:R36) -> 0 | T36: =IFERROR(IF(D36="",0,((COUNTIF(D36:R36,"Y")+COUNTIF(D36:R36,"NA"))/(COUNTIF(D36:R36,"Y")+COUNTIF(D36:R36,"N")+COUNTIF(D36:R36,"NA")))),"0%") -> 0
B37: 9 | S37: =15-COUNTBLANK(D37:R37) -> 0 | T37: =IFERROR(IF(D37="",0,((COUNTIF(D37:R37,"Y")+COUNTIF(D37:R37,"NA"))/(COUNTIF(D37:R37,"Y")+COUNTIF(D37:R37,"N")+COUNTIF(D37:R37,"NA")))),"0%") -> 0
B38: 10 | S38: =15-COUNTBLANK(D38:R38) -> 0 | T38: =IFERROR(IF(D38="",0,((COUNTIF(D38:R38,"Y")+COUNTIF(D38:R38,"NA"))/(COUNTIF(D38:R38,"Y")+COUNTIF(D38:R38,"N")+COUNTIF(D38:R38,"NA")))),"0%") -> 0
B39: 11 | S39: =15-COUNTBLANK(D39:R39) -> 0 | T39: =IFERROR(IF(D39="",0,((COUNTIF(D39:R39,"Y")+COUNTIF(D39:R39,"NA"))/(COUNTIF(D39:R39,"Y")+COUNTIF(D39:R39,"N")+COUNTIF(D39:R39,"NA")))),"0%") -> 0
B40: 12 | S40: =15-COUNTBLANK(D40:R40) -> 0 | T40: =IFERROR(IF(D40="",0,((COUNTIF(D40:R40,"Y")+COUNTIF(D40:R40,"NA"))/(COUNTIF(D40:R40,"Y")+COUNTIF(D40:R40,"N")+COUNTIF(D40:R40,"NA")))),"0%") -> 0
B41: 13 | S41: =15-COUNTBLANK(D41:R41) -> 0 | T41: =IFERROR(IF(D41="",0,((COUNTIF(D41:R41,"Y")+COUNTIF(D41:R41,"NA"))/(COUNTIF(D41:R41,"Y")+COUNTIF(D41:R41,"N")+COUNTIF(D41:R41,"NA")))),"0%") -> 0
B42: 14 | S42: =15-COUNTBLANK(D42:R42) -> 0 | T42: =IFERROR(IF(D42="",0,((COUNTIF(D42:R42,"Y")+COUNTIF(D42:R42,"NA"))/(COUNTIF(D42:R42,"Y")+COUNTIF(D42:R42,"N")+COUNTIF(D42:R42,"NA")))),"0%") -> 0
B43: 15 | S43: =15-COUNTBLANK(D43:R43) -> 0 | T43: =IFERROR(IF(D43="",0,((COUNTIF(D43:R43,"Y")+COUNTIF(D43:R43,"NA"))/(COUNTIF(D43:R43,"Y")+COUNTIF(D43:R43,"N")+COUNTIF(D43:R43,"NA")))),"0%") -> 0
B44: 16 | S44: =15-COUNTBLANK(D44:R44) -> 0 | T44: =IFERROR(IF(D44="",0,((COUNTIF(D44:R44,"Y")+COUNTIF(D44:R44,"NA"))/(COUNTIF(D44:R44,"Y")+COUNTIF(D44:R44,"N")+COUNTIF(D44:R44,"NA")))),"0%") -> 0
...
